BEGIN:VCALENDAR
VERSION:2.0
PRODID:-//All Star Sports Cards - ECPv6.15.20//NONSGML v1.0//EN
CALSCALE:GREGORIAN
METHOD:PUBLISH
X-WR-CALNAME:All Star Sports Cards
X-ORIGINAL-URL:https://all-star-sports-cards.com
X-WR-CALDESC:Events for All Star Sports Cards
REFRESH-INTERVAL;VALUE=DURATION:PT1H
X-Robots-Tag:noindex
X-PUBLISHED-TTL:PT1H
BEGIN:VTIMEZONE
TZID:America/New_York
BEGIN:DAYLIGHT
TZOFFSETFROM:-0500
TZOFFSETTO:-0400
TZNAME:EDT
DTSTART:20250309T070000
END:DAYLIGHT
BEGIN:STANDARD
TZOFFSETFROM:-0400
TZOFFSETTO:-0500
TZNAME:EST
DTSTART:20251102T060000
END:STANDARD
BEGIN:DAYLIGHT
TZOFFSETFROM:-0500
TZOFFSETTO:-0400
TZNAME:EDT
DTSTART:20260308T070000
END:DAYLIGHT
BEGIN:STANDARD
TZOFFSETFROM:-0400
TZOFFSETTO:-0500
TZNAME:EST
DTSTART:20261101T060000
END:STANDARD
BEGIN:DAYLIGHT
TZOFFSETFROM:-0500
TZOFFSETTO:-0400
TZNAME:EDT
DTSTART:20270314T070000
END:DAYLIGHT
BEGIN:STANDARD
TZOFFSETFROM:-0400
TZOFFSETTO:-0500
TZNAME:EST
DTSTART:20271107T060000
END:STANDARD
END:VTIMEZONE
BEGIN:VEVENT
DTSTART;VALUE=DATE:20260422
DTEND;VALUE=DATE:20260423
DTSTAMP:20260421T121523
CREATED:20260303T214452Z
LAST-MODIFIED:20260303T214452Z
UID:222345-1776816000-1776902399@all-star-sports-cards.com
SUMMARY:Release: 2025-26 Skybox Metal Universe NHL Hockey Cards
DESCRIPTION:
URL:https://all-star-sports-cards.com/event/release-2025-26-skybox-metal-universe-nhl-hockey-cards/
CATEGORIES:Product Releases
ATTACH;FMTTYPE=image/jpeg:https://all-star-sports-cards.com/wp-content/uploads/2023/03/images.jpeg.jpg
END:VEVENT
BEGIN:VEVENT
DTSTART;VALUE=DATE:20260422
DTEND;VALUE=DATE:20260423
DTSTAMP:20260421T121523
CREATED:20260329T110013Z
LAST-MODIFIED:20260329T110013Z
UID:222481-1776816000-1776902399@all-star-sports-cards.com
SUMMARY:Release: 2025-26 Bowman Basketball
DESCRIPTION:
URL:https://all-star-sports-cards.com/event/release-2025-26-bowman-basketball/
CATEGORIES:Product Releases
ATTACH;FMTTYPE=image/jpeg:https://all-star-sports-cards.com/wp-content/uploads/2023/03/images.jpeg.jpg
END:VEVENT
BEGIN:VEVENT
DTSTART;VALUE=DATE:20260429
DTEND;VALUE=DATE:20260430
DTSTAMP:20260421T121523
CREATED:20260303T214424Z
LAST-MODIFIED:20260303T214424Z
UID:222343-1777420800-1777507199@all-star-sports-cards.com
SUMMARY:Release: 2026 Donruss Baseball Cards
DESCRIPTION:
URL:https://all-star-sports-cards.com/event/release-2026-donruss-baseball-cards/
CATEGORIES:Product Releases
ATTACH;FMTTYPE=image/jpeg:https://all-star-sports-cards.com/wp-content/uploads/2023/03/images.jpeg.jpg
END:VEVENT
BEGIN:VEVENT
DTSTART;VALUE=DATE:20260429
DTEND;VALUE=DATE:20260430
DTSTAMP:20260421T121523
CREATED:20260329T110012Z
LAST-MODIFIED:20260329T110012Z
UID:222480-1777420800-1777507199@all-star-sports-cards.com
SUMMARY:Release: 2025-26 Topps Cosmic Chrome Basketball
DESCRIPTION:
URL:https://all-star-sports-cards.com/event/release-2025-26-topps-cosmic-chrome-basketball/
CATEGORIES:Product Releases
ATTACH;FMTTYPE=image/jpeg:https://all-star-sports-cards.com/wp-content/uploads/2023/03/images.jpeg.jpg
END:VEVENT
BEGIN:VEVENT
DTSTART;VALUE=DATE:20260429
DTEND;VALUE=DATE:20260430
DTSTAMP:20260421T121523
CREATED:20260405T110102Z
LAST-MODIFIED:20260405T110102Z
UID:222482-1777420800-1777507199@all-star-sports-cards.com
SUMMARY:Release: 2026 Topps Chrome Black Baseball
DESCRIPTION:
URL:https://all-star-sports-cards.com/event/release-2026-topps-chrome-black-baseball/
CATEGORIES:Product Releases
ATTACH;FMTTYPE=image/jpeg:https://all-star-sports-cards.com/wp-content/uploads/2023/03/images.jpeg.jpg
END:VEVENT
BEGIN:VEVENT
DTSTART;VALUE=DATE:20260429
DTEND;VALUE=DATE:20260430
DTSTAMP:20260421T121523
CREATED:20260412T110041Z
LAST-MODIFIED:20260412T110041Z
UID:222485-1777420800-1777507199@all-star-sports-cards.com
SUMMARY:Release: 2025 Topps Definitive Collection Baseball
DESCRIPTION:
URL:https://all-star-sports-cards.com/event/release-2025-topps-definitive-collection-baseball/
CATEGORIES:Product Releases
ATTACH;FMTTYPE=image/jpeg:https://all-star-sports-cards.com/wp-content/uploads/2023/03/images.jpeg.jpg
END:VEVENT
BEGIN:VEVENT
DTSTART;VALUE=DATE:20260430
DTEND;VALUE=DATE:20260501
DTSTAMP:20260421T121523
CREATED:20251216T035949Z
LAST-MODIFIED:20260312T110253Z
UID:220773-1777507200-1777593599@all-star-sports-cards.com
SUMMARY:Release: ESTIMATED APRIL RELEASE: 2025-26 O-Pee-Chee Platinum NHL Hockey Cards - TBD
DESCRIPTION:
URL:https://all-star-sports-cards.com/event/estimated-april-release-2025-26-o-pee-chee-platinum-nhl-hockey-cards-tbd/
CATEGORIES:Product Releases
ATTACH;FMTTYPE=image/jpeg:https://all-star-sports-cards.com/wp-content/uploads/2023/03/images.jpeg.jpg
END:VEVENT
BEGIN:VEVENT
DTSTART;TZID=America/New_York:20260430T150000
DTEND;TZID=America/New_York:20260430T190000
DTSTAMP:20260421T121523
CREATED:20250812T222431Z
LAST-MODIFIED:20251201T002652Z
UID:573-1777561200-1777575600@all-star-sports-cards.com
SUMMARY:Sportcard Expo - Toronto (Day 1)
DESCRIPTION:International Centre – Mississauga
URL:https://all-star-sports-cards.com/event/sportcard-expo-toronto-2/
LOCATION:International Centre\, 6900 Airport Rd\, Mississauga\, Ontario\, Canada
CATEGORIES:Featured
ATTACH;FMTTYPE=image/jpeg:https://all-star-sports-cards.com/wp-content/uploads/2023/03/images.jpeg.jpg
END:VEVENT
END:VCALENDAR