BEGIN:VCALENDAR
VERSION:2.0
PRODID:-//All Star Sports Cards - ECPv6.15.20//NONSGML v1.0//EN
CALSCALE:GREGORIAN
METHOD:PUBLISH
X-WR-CALNAME:All Star Sports Cards
X-ORIGINAL-URL:https://all-star-sports-cards.com
X-WR-CALDESC:Events for All Star Sports Cards
REFRESH-INTERVAL;VALUE=DURATION:PT1H
X-Robots-Tag:noindex
X-PUBLISHED-TTL:PT1H
BEGIN:VTIMEZONE
TZID:America/New_York
BEGIN:DAYLIGHT
TZOFFSETFROM:-0500
TZOFFSETTO:-0400
TZNAME:EDT
DTSTART:20250309T070000
END:DAYLIGHT
BEGIN:STANDARD
TZOFFSETFROM:-0400
TZOFFSETTO:-0500
TZNAME:EST
DTSTART:20251102T060000
END:STANDARD
BEGIN:DAYLIGHT
TZOFFSETFROM:-0500
TZOFFSETTO:-0400
TZNAME:EDT
DTSTART:20260308T070000
END:DAYLIGHT
BEGIN:STANDARD
TZOFFSETFROM:-0400
TZOFFSETTO:-0500
TZNAME:EST
DTSTART:20261101T060000
END:STANDARD
BEGIN:DAYLIGHT
TZOFFSETFROM:-0500
TZOFFSETTO:-0400
TZNAME:EDT
DTSTART:20270314T070000
END:DAYLIGHT
BEGIN:STANDARD
TZOFFSETFROM:-0400
TZOFFSETTO:-0500
TZNAME:EST
DTSTART:20271107T060000
END:STANDARD
END:VTIMEZONE
BEGIN:VEVENT
DTSTART;VALUE=DATE:20260831
DTEND;VALUE=DATE:20260901
DTSTAMP:20260421T151527
CREATED:20260228T110259Z
LAST-MODIFIED:20260312T110256Z
UID:222337-1788134400-1788220799@all-star-sports-cards.com
SUMMARY:Release: ESTIMATED AUGUST RELEASE: 2026-27 Upper Deck MVP NHL Hockey Cards - TBD
DESCRIPTION:
URL:https://all-star-sports-cards.com/event/release-estimated-august-release-2026-27-upper-deck-mvp-nhl-hockey-cards-tbd/
CATEGORIES:Product Releases
ATTACH;FMTTYPE=image/jpeg:https://all-star-sports-cards.com/wp-content/uploads/2023/03/images.jpeg.jpg
END:VEVENT
END:VCALENDAR