BEGIN:VCALENDAR
VERSION:2.0
PRODID:-//All Star Sports Cards - ECPv6.15.20//NONSGML v1.0//EN
CALSCALE:GREGORIAN
METHOD:PUBLISH
X-WR-CALNAME:All Star Sports Cards
X-ORIGINAL-URL:https://all-star-sports-cards.com
X-WR-CALDESC:Events for All Star Sports Cards
REFRESH-INTERVAL;VALUE=DURATION:PT1H
X-Robots-Tag:noindex
X-PUBLISHED-TTL:PT1H
BEGIN:VTIMEZONE
TZID:America/New_York
BEGIN:DAYLIGHT
TZOFFSETFROM:-0500
TZOFFSETTO:-0400
TZNAME:EDT
DTSTART:20240310T070000
END:DAYLIGHT
BEGIN:STANDARD
TZOFFSETFROM:-0400
TZOFFSETTO:-0500
TZNAME:EST
DTSTART:20241103T060000
END:STANDARD
BEGIN:DAYLIGHT
TZOFFSETFROM:-0500
TZOFFSETTO:-0400
TZNAME:EDT
DTSTART:20250309T070000
END:DAYLIGHT
BEGIN:STANDARD
TZOFFSETFROM:-0400
TZOFFSETTO:-0500
TZNAME:EST
DTSTART:20251102T060000
END:STANDARD
BEGIN:DAYLIGHT
TZOFFSETFROM:-0500
TZOFFSETTO:-0400
TZNAME:EDT
DTSTART:20260308T070000
END:DAYLIGHT
BEGIN:STANDARD
TZOFFSETFROM:-0400
TZOFFSETTO:-0500
TZNAME:EST
DTSTART:20261101T060000
END:STANDARD
BEGIN:DAYLIGHT
TZOFFSETFROM:-0500
TZOFFSETTO:-0400
TZNAME:EDT
DTSTART:20270314T070000
END:DAYLIGHT
BEGIN:STANDARD
TZOFFSETFROM:-0400
TZOFFSETTO:-0500
TZNAME:EST
DTSTART:20271107T060000
END:STANDARD
END:VTIMEZONE
BEGIN:VEVENT
DTSTART;TZID=America/New_York:20260101T030000
DTEND;TZID=America/New_York:20260101T090000
DTSTAMP:20260421T212419
CREATED:20251221T145453Z
LAST-MODIFIED:20251221T145453Z
UID:221228-1767236400-1767258000@all-star-sports-cards.com
SUMMARY:Bordentown Elks Lodge
DESCRIPTION:
URL:https://all-star-sports-cards.com/event/bordentown-elks-lodge-2-2-2/
LOCATION:Bordentown Elks Lodge\, 11 Amboy Rd\, Bordentown\, NJ\, United States
ATTACH;FMTTYPE=image/jpeg:https://all-star-sports-cards.com/wp-content/uploads/2023/03/images.jpeg.jpg
END:VEVENT
BEGIN:VEVENT
DTSTART;TZID=America/New_York:20251019T090000
DTEND;TZID=America/New_York:20251019T150000
DTSTAMP:20260421T212419
CREATED:20250908T031159Z
LAST-MODIFIED:20250908T031159Z
UID:220635-1760864400-1760886000@all-star-sports-cards.com
SUMMARY:THE CHANTILLY SHOW (Day 3)
DESCRIPTION:
URL:https://all-star-sports-cards.com/event/the-chantilly-show/
LOCATION:DULLES EXPO CENTER\, Chantilly\, VA\, United States
CATEGORIES:Featured
ATTACH;FMTTYPE=image/jpeg:https://all-star-sports-cards.com/wp-content/uploads/2023/03/images.jpeg.jpg
END:VEVENT
BEGIN:VEVENT
DTSTART;TZID=America/New_York:20251018T080000
DTEND;TZID=America/New_York:20251018T160000
DTSTAMP:20260421T212419
CREATED:20250908T031123Z
LAST-MODIFIED:20250908T031123Z
UID:220634-1760774400-1760803200@all-star-sports-cards.com
SUMMARY:THE CHANTILLY SHOW (Day 2)
DESCRIPTION:
URL:https://all-star-sports-cards.com/event/the-chantilly-show-3/
LOCATION:DULLES EXPO CENTER\, Chantilly\, VA\, United States
CATEGORIES:Featured
ATTACH;FMTTYPE=image/jpeg:https://all-star-sports-cards.com/wp-content/uploads/2023/03/images.jpeg.jpg
END:VEVENT
BEGIN:VEVENT
DTSTART;TZID=America/New_York:20251017T120000
DTEND;TZID=America/New_York:20251017T190000
DTSTAMP:20260421T212419
CREATED:20230322T202650Z
LAST-MODIFIED:20250908T031044Z
UID:15-1760702400-1760727600@all-star-sports-cards.com
SUMMARY:THE CHANTILLY SHOW
DESCRIPTION:
URL:https://all-star-sports-cards.com/event/the-chantilly-show-2/
LOCATION:DULLES EXPO CENTER\, Chantilly\, VA\, United States
CATEGORIES:Featured
ATTACH;FMTTYPE=image/jpeg:https://all-star-sports-cards.com/wp-content/uploads/2023/03/images.jpeg.jpg
END:VEVENT
BEGIN:VEVENT
DTSTART;TZID=America/New_York:20250101T080000
DTEND;TZID=America/New_York:20250101T140000
DTSTAMP:20260421T212419
CREATED:20251221T144815Z
LAST-MODIFIED:20251221T144815Z
UID:221190-1735718400-1735740000@all-star-sports-cards.com
SUMMARY:Bordentown Elks Lodge
DESCRIPTION:
URL:https://all-star-sports-cards.com/event/bordentown-elks-lodge-2/
LOCATION:Bordentown Elks Lodge\, 11 Amboy Rd\, Bordentown\, NJ\, United States
ATTACH;FMTTYPE=image/jpeg:https://all-star-sports-cards.com/wp-content/uploads/2023/03/images.jpeg.jpg
END:VEVENT
END:VCALENDAR