BEGIN:VCALENDAR
VERSION:2.0
PRODID:-//All Star Sports Cards - ECPv6.15.20//NONSGML v1.0//EN
CALSCALE:GREGORIAN
METHOD:PUBLISH
X-ORIGINAL-URL:https://all-star-sports-cards.com
X-WR-CALDESC:Events for All Star Sports Cards
REFRESH-INTERVAL;VALUE=DURATION:PT1H
X-Robots-Tag:noindex
X-PUBLISHED-TTL:PT1H
BEGIN:VTIMEZONE
TZID:America/New_York
BEGIN:DAYLIGHT
TZOFFSETFROM:-0500
TZOFFSETTO:-0400
TZNAME:EDT
DTSTART:20250309T070000
END:DAYLIGHT
BEGIN:STANDARD
TZOFFSETFROM:-0400
TZOFFSETTO:-0500
TZNAME:EST
DTSTART:20251102T060000
END:STANDARD
BEGIN:DAYLIGHT
TZOFFSETFROM:-0500
TZOFFSETTO:-0400
TZNAME:EDT
DTSTART:20260308T070000
END:DAYLIGHT
BEGIN:STANDARD
TZOFFSETFROM:-0400
TZOFFSETTO:-0500
TZNAME:EST
DTSTART:20261101T060000
END:STANDARD
BEGIN:DAYLIGHT
TZOFFSETFROM:-0500
TZOFFSETTO:-0400
TZNAME:EDT
DTSTART:20270314T070000
END:DAYLIGHT
BEGIN:STANDARD
TZOFFSETFROM:-0400
TZOFFSETTO:-0500
TZNAME:EST
DTSTART:20271107T060000
END:STANDARD
END:VTIMEZONE
BEGIN:VEVENT
DTSTART;TZID=America/New_York:20260327T100000
DTEND;TZID=America/New_York:20260329T160000
DTSTAMP:20260421T135322
CREATED:20250812T191746Z
LAST-MODIFIED:20250908T025913Z
UID:539-1774605600-1774800000@all-star-sports-cards.com
SUMMARY:Monroeville Convention Center
DESCRIPTION:The Pittsburgh 600
URL:https://all-star-sports-cards.com/event/monroeville-convention-center/
LOCATION:Monroeville Convention Center\, 209 Mall Plaza Blvd\, Monroeville\, 15146\, United States
CATEGORIES:Featured
ATTACH;FMTTYPE=image/jpeg:https://all-star-sports-cards.com/wp-content/uploads/2023/03/images.jpeg.jpg
END:VEVENT
END:VCALENDAR